BEGIN:VCALENDAR
VERSION:2.0
PRODID:-//GSPCA German Shorthaired Pointer Club of America - ECPv6.15.17.1//NONSGML v1.0//EN
CALSCALE:GREGORIAN
METHOD:PUBLISH
X-WR-CALNAME:GSPCA German Shorthaired Pointer Club of America
X-ORIGINAL-URL:https://gspca.org
X-WR-CALDESC:Events for GSPCA German Shorthaired Pointer Club of America
REFRESH-INTERVAL;VALUE=DURATION:PT1H
X-Robots-Tag:noindex
X-PUBLISHED-TTL:PT1H
BEGIN:VTIMEZONE
TZID:America/New_York
BEGIN:DAYLIGHT
TZOFFSETFROM:-0500
TZOFFSETTO:-0400
TZNAME:EDT
DTSTART:20230312T070000
END:DAYLIGHT
BEGIN:STANDARD
TZOFFSETFROM:-0400
TZOFFSETTO:-0500
TZNAME:EST
DTSTART:20231105T060000
END:STANDARD
BEGIN:DAYLIGHT
TZOFFSETFROM:-0500
TZOFFSETTO:-0400
TZNAME:EDT
DTSTART:20240310T070000
END:DAYLIGHT
BEGIN:STANDARD
TZOFFSETFROM:-0400
TZOFFSETTO:-0500
TZNAME:EST
DTSTART:20241103T060000
END:STANDARD
BEGIN:DAYLIGHT
TZOFFSETFROM:-0500
TZOFFSETTO:-0400
TZNAME:EDT
DTSTART:20250309T070000
END:DAYLIGHT
BEGIN:STANDARD
TZOFFSETFROM:-0400
TZOFFSETTO:-0500
TZNAME:EST
DTSTART:20251102T060000
END:STANDARD
BEGIN:DAYLIGHT
TZOFFSETFROM:-0500
TZOFFSETTO:-0400
TZNAME:EDT
DTSTART:20260308T070000
END:DAYLIGHT
BEGIN:STANDARD
TZOFFSETFROM:-0400
TZOFFSETTO:-0500
TZNAME:EST
DTSTART:20261101T060000
END:STANDARD
END:VTIMEZONE
BEGIN:VTIMEZONE
TZID:America/Chicago
BEGIN:DAYLIGHT
TZOFFSETFROM:-0600
TZOFFSETTO:-0500
TZNAME:CDT
DTSTART:20230312T080000
END:DAYLIGHT
BEGIN:STANDARD
TZOFFSETFROM:-0500
TZOFFSETTO:-0600
TZNAME:CST
DTSTART:20231105T070000
END:STANDARD
BEGIN:DAYLIGHT
TZOFFSETFROM:-0600
TZOFFSETTO:-0500
TZNAME:CDT
DTSTART:20240310T080000
END:DAYLIGHT
BEGIN:STANDARD
TZOFFSETFROM:-0500
TZOFFSETTO:-0600
TZNAME:CST
DTSTART:20241103T070000
END:STANDARD
BEGIN:DAYLIGHT
TZOFFSETFROM:-0600
TZOFFSETTO:-0500
TZNAME:CDT
DTSTART:20250309T080000
END:DAYLIGHT
BEGIN:STANDARD
TZOFFSETFROM:-0500
TZOFFSETTO:-0600
TZNAME:CST
DTSTART:20251102T070000
END:STANDARD
END:VTIMEZONE
BEGIN:VEVENT
DTSTART;VALUE=DATE:20250920
DTEND;VALUE=DATE:20250921
DTSTAMP:20260422T071618
CREATED:20250807T204257Z
LAST-MODIFIED:20250807T204336Z
UID:263131-1758326400-1758412799@gspca.org
SUMMARY:WT GSP Club of Wisconsin | Cedar Grove\, WI
DESCRIPTION:GSPC of WI WATER RATINGS TEST – GSPs only\nKrystal Creek Kennels • W2349 Amsterdam Road • Cedar Grove\, WI\nwww.krystalcreekkennels.com\nPREMIUM LIST
URL:https://gspca.org/calendar/wt-gsp-club-of-wisconsin/
LOCATION:Krystal Creek Kennels\, W2349 Amsterdam Road\, Cedar Grove\, WI\, United States
CATEGORIES:Water Tests
ATTACH;FMTTYPE=image/png:https://gspca.org/wp-content/uploads/2024/07/gspcwi-logo.png
END:VEVENT
BEGIN:VEVENT
DTSTART;VALUE=DATE:20250809
DTEND;VALUE=DATE:20250810
DTSTAMP:20260422T071618
CREATED:20250624T212949Z
LAST-MODIFIED:20250624T213557Z
UID:262964-1754697600-1754783999@gspca.org
SUMMARY:Katahdin GSPC Water Test
DESCRIPTION:Sharpe’s Farm\, Dike Side\, Hopkinton\, NH\nSaturday\, August 9th\, 2025 9:00am \nPremium: VIEW / DOWNLOAD
URL:https://gspca.org/calendar/katahdin-gspc-water-test/
LOCATION:WI
CATEGORIES:Water Tests
ATTACH;FMTTYPE=image/png:https://gspca.org/wp-content/uploads/2025/06/KatahdinGSPC.png
END:VEVENT
BEGIN:VEVENT
DTSTART;VALUE=DATE:20240908
DTEND;VALUE=DATE:20240909
DTSTAMP:20260422T071618
CREATED:20240714T032524Z
LAST-MODIFIED:20240714T033323Z
UID:260650-1725753600-1725839999@gspca.org
SUMMARY:WATER TEST Cedar Grove\, WI | GSPC Wisconsin
DESCRIPTION:GSP Club of Wisconsin Water Test\nKrystal Creek Kennels\,\nCedar Grove\, WI \nMAIL ENTRIES WITH CHECKS PAYABLE TO:\nGSPCWi\nJean Bernier\, Test Secretary\n9221 Bell School Road\nOmro\, WI 54963\nknottypinekennels@yahoo.com\n⇒TAP FOR PREMIUM
URL:https://gspca.org/calendar/water-test-cedar-grove-wi-gspc-wisconsin/
LOCATION:Krystal Creek Kennels\, W2349 Amsterdam Road\, Cedar Grove\, WI\, United States
CATEGORIES:Water Tests
ATTACH;FMTTYPE=image/png:https://gspca.org/wp-content/uploads/2024/07/gspcwi-logo.png
END:VEVENT
BEGIN:VEVENT
DTSTART;VALUE=DATE:20240907
DTEND;VALUE=DATE:20240908
DTSTAMP:20260422T071618
CREATED:20240620T192508Z
LAST-MODIFIED:20240714T033517Z
UID:260525-1725667200-1725753599@gspca.org
SUMMARY:WATER TEST New Egypt\, NJ | Eastern GSP Club
DESCRIPTION:Eastern GSP Club Water Test\nColliers Mills WMA\nNew Egypt\, NJ \nMAIL ENTRIES WITH CHECKS PAYABLE TO:\nEastern GSP Club\nMary Jane Houghton\, Test Secretary\n17 Carrousel Lane Hamilton NJ 08619\n608-669-3920 mjhought@gmail.com\n⇒TAP FOR PREMIUM
URL:https://gspca.org/calendar/water-test-new-egypt-nj-eastern-gsp-club/
LOCATION:Colliers Mills WMA\, 401 Hawkin Rd\, New Egypt\, New Jersey\, 08533\, United States
CATEGORIES:Water Tests
ATTACH;FMTTYPE=image/jpeg:https://gspca.org/wp-content/uploads/2024/02/EasternGSP-logo.jpg
END:VEVENT
END:VCALENDAR