BEGIN:VCALENDAR
VERSION:2.0
PRODID:-//GSPCA German Shorthaired Pointer Club of America - ECPv6.15.17.1//NONSGML v1.0//EN
CALSCALE:GREGORIAN
METHOD:PUBLISH
X-WR-CALNAME:GSPCA German Shorthaired Pointer Club of America
X-ORIGINAL-URL:https://gspca.org
X-WR-CALDESC:Events for GSPCA German Shorthaired Pointer Club of America
REFRESH-INTERVAL;VALUE=DURATION:PT1H
X-Robots-Tag:noindex
X-PUBLISHED-TTL:PT1H
BEGIN:VTIMEZONE
TZID:America/New_York
BEGIN:DAYLIGHT
TZOFFSETFROM:-0500
TZOFFSETTO:-0400
TZNAME:EDT
DTSTART:20240310T070000
END:DAYLIGHT
BEGIN:STANDARD
TZOFFSETFROM:-0400
TZOFFSETTO:-0500
TZNAME:EST
DTSTART:20241103T060000
END:STANDARD
BEGIN:DAYLIGHT
TZOFFSETFROM:-0500
TZOFFSETTO:-0400
TZNAME:EDT
DTSTART:20250309T070000
END:DAYLIGHT
BEGIN:STANDARD
TZOFFSETFROM:-0400
TZOFFSETTO:-0500
TZNAME:EST
DTSTART:20251102T060000
END:STANDARD
BEGIN:DAYLIGHT
TZOFFSETFROM:-0500
TZOFFSETTO:-0400
TZNAME:EDT
DTSTART:20260308T070000
END:DAYLIGHT
BEGIN:STANDARD
TZOFFSETFROM:-0400
TZOFFSETTO:-0500
TZNAME:EST
DTSTART:20261101T060000
END:STANDARD
END:VTIMEZONE
BEGIN:VEVENT
DTSTART;VALUE=DATE:20250110
DTEND;VALUE=DATE:20250111
DTSTAMP:20260421T160531
CREATED:20241220T020638Z
LAST-MODIFIED:20241220T020638Z
UID:261081-1736467200-1736553599@gspca.org
SUMMARY:Specialty: GSPC of Minnesota /MN/
DESCRIPTION:Specialty: GSPC of Minnesota /MN/ \nEvent No: 2025150602\nTotal Recall School for Dogs\n17285 Forest Blvd N\nHugo\, MN\nWeb Site:https://www.gspcmn.com\nApproved\nGerman Shorthaired Pointer\nStart Date: Friday – January 10\, 2025\nEnd Date: Friday – January 10\, 2025\nClosing Date: Wednesday – December 25\, 2024\nTime Zone: CENTRAL \nEvent Chair\nJami  Meath\n5642 226th Ave\nBethel \, MN 55005\nlhkgsps@gmail.com\n651-895-2664 \nFor additional information contact:\nXtreme K9 Trail Secretary\, Event Secretary\nPO Box 245\nCottage Grove\, MN 55016\n(612) 930-3898\nxtremek9trialsec@gmail.com \nPoints For Reserve Available \n⇒DETAILS
URL:https://gspca.org/calendar/specialty-gspc-of-minnesota-mn/
LOCATION:Total Recall School for Dogs\, 17285 Forest Blvd N\, Hugo\, MN\, United States
CATEGORIES:Specialty Show
ATTACH;FMTTYPE=image/gif:https://gspca.org/wp-content/uploads/2024/12/GSPC-Minnesota-Logo.gif
END:VEVENT
END:VCALENDAR