BEGIN:VCALENDAR
VERSION:2.0
PRODID:-//GSPCA German Shorthaired Pointer Club of America - ECPv6.15.17.1//NONSGML v1.0//EN
CALSCALE:GREGORIAN
METHOD:PUBLISH
X-WR-CALNAME:GSPCA German Shorthaired Pointer Club of America
X-ORIGINAL-URL:https://gspca.org
X-WR-CALDESC:Events for GSPCA German Shorthaired Pointer Club of America
REFRESH-INTERVAL;VALUE=DURATION:PT1H
X-Robots-Tag:noindex
X-PUBLISHED-TTL:PT1H
BEGIN:VTIMEZONE
TZID:America/New_York
BEGIN:DAYLIGHT
TZOFFSETFROM:-0500
TZOFFSETTO:-0400
TZNAME:EDT
DTSTART:20230312T070000
END:DAYLIGHT
BEGIN:STANDARD
TZOFFSETFROM:-0400
TZOFFSETTO:-0500
TZNAME:EST
DTSTART:20231105T060000
END:STANDARD
BEGIN:DAYLIGHT
TZOFFSETFROM:-0500
TZOFFSETTO:-0400
TZNAME:EDT
DTSTART:20240310T070000
END:DAYLIGHT
BEGIN:STANDARD
TZOFFSETFROM:-0400
TZOFFSETTO:-0500
TZNAME:EST
DTSTART:20241103T060000
END:STANDARD
BEGIN:DAYLIGHT
TZOFFSETFROM:-0500
TZOFFSETTO:-0400
TZNAME:EDT
DTSTART:20250309T070000
END:DAYLIGHT
BEGIN:STANDARD
TZOFFSETFROM:-0400
TZOFFSETTO:-0500
TZNAME:EST
DTSTART:20251102T060000
END:STANDARD
BEGIN:DAYLIGHT
TZOFFSETFROM:-0500
TZOFFSETTO:-0400
TZNAME:EDT
DTSTART:20260308T070000
END:DAYLIGHT
BEGIN:STANDARD
TZOFFSETFROM:-0400
TZOFFSETTO:-0500
TZNAME:EST
DTSTART:20261101T060000
END:STANDARD
END:VTIMEZONE
BEGIN:VTIMEZONE
TZID:UTC
BEGIN:STANDARD
TZOFFSETFROM:+0000
TZOFFSETTO:+0000
TZNAME:UTC
DTSTART:20230101T000000
END:STANDARD
END:VTIMEZONE
BEGIN:VEVENT
DTSTART;VALUE=DATE:20250920
DTEND;VALUE=DATE:20250922
DTSTAMP:20260422T062152
CREATED:20250807T204927Z
LAST-MODIFIED:20250914T190652Z
UID:263134-1758326400-1758499199@gspca.org
SUMMARY:HT | WT | AWP Wilmington IL - Fort Dearborn GSPC
DESCRIPTION:HUNTING TEST/AWP FOR ALL REGISTERABLE POINTING BREEDS\nAKC & GSPCA Water Tests will be held on Saturday\nSaturday\, September 20\, 2025\nAKC Licensed Event # 2025149706\nSunday\, September 21\, 2025\nAKC Licensed Event # 2025149707 \nPREMIUM LIST
URL:https://gspca.org/calendar/ht-awp-wt-fort-dearborn-gspc-wilmington-il/
LOCATION:Des Plaines State Fish and Wildlife Area\, 24621 N River Rd\, Wilmington\, IL\, 60481\, United States
CATEGORIES:Hunt Tests
ATTACH;FMTTYPE=image/jpeg:https://gspca.org/wp-content/uploads/2024/02/ft-dearborn-bw-logo2.jpg
END:VEVENT
BEGIN:VEVENT
DTSTART;VALUE=DATE:20241228
DTEND;VALUE=DATE:20241230
DTSTAMP:20260422T062152
CREATED:20241220T010628Z
LAST-MODIFIED:20241220T010628Z
UID:261061-1735344000-1735516799@gspca.org
SUMMARY:Hunt Test: GSP Club of Santa Clara Valley /CA/
DESCRIPTION:Hunt Test: GSP Club of Santa Clara Valley /CA/\nEvent No: 2024349902\nVolta Farms\nLos Banos\, CA\nApproved\nHT Pointing Breed\nClosing Date: Friday – December 20\, 2024\nClosing Time: 06:00:00 PM\nTime Zone: PACIFIC \nFor additional information contact:\nLisa Montgomery\, Event Secretary\n711 PLEASANT VALLEY LN\nAPTOS\, CA 95003-9313\n(304) 319-3152\nlisa@nard.net \n⇒DETAILS
URL:https://gspca.org/calendar/hunt-test-gsp-club-of-santa-clara-valley-ca/
LOCATION:Volta Farms\, 13985 Alkali Lane\, Los Banos\, CA\, United States
CATEGORIES:Hunt Tests
ATTACH;FMTTYPE=image/gif:https://gspca.org/wp-content/uploads/2024/12/GSPCSCV-LOGO.gif
END:VEVENT
BEGIN:VEVENT
DTSTART;VALUE=DATE:20240427
DTEND;VALUE=DATE:20240429
DTSTAMP:20260422T062152
CREATED:20240201T225519Z
LAST-MODIFIED:20240209T082538Z
UID:259728-1714176000-1714348799@gspca.org
SUMMARY:HUNT TEST/AWP Wilmington IL | Fort Dearborn GSPC
DESCRIPTION:Hunt Tests & Amateur Walking Puppy\nDes Plaines Wildlife Area\, West Grounds\nWilmington IL \nHT Secretary Christine Manikowski wwtch1@aol.com\n⇒TAP FOR PREMIUM
URL:https://gspca.org/calendar/hunt-test-illinois/
LOCATION:Des Plaines State Fish and Wildlife Area\, 24621 N River Rd\, Wilmington\, IL\, 60481\, United States
CATEGORIES:Hunt Tests
ATTACH;FMTTYPE=image/jpeg:https://gspca.org/wp-content/uploads/2024/02/ft-dearborn-bw-logo2.jpg
END:VEVENT
BEGIN:VEVENT
DTSTART;VALUE=DATE:20240420
DTEND;VALUE=DATE:20240422
DTSTAMP:20260422T062152
CREATED:20240208T062111Z
LAST-MODIFIED:20240208T063123Z
UID:259825-1713571200-1713743999@gspca.org
SUMMARY:HUNT TEST Addison\, NY |  GSP Club of the Fingerlakes
DESCRIPTION:Hunt Tests Saturday & Sunday\nAddison\, NY \nHT Secretary Jennifer Patterson jlp8@cornell.edu\n⇒TAP FOR SATURDAY PREMIUM\n⇒TAP FOR SUNDAY PREMIUM
URL:https://gspca.org/calendar/hunt-test-addison-ny-gsp-club-of-the-fingerlakes/
LOCATION:Percy Priest WMA – Field Trial Grounds\, 347 Old Jones Mill Rd\, La Vergne\, TN\, United States
CATEGORIES:Hunt Tests
ATTACH;FMTTYPE=image/jpeg:https://gspca.org/wp-content/uploads/2024/02/Fingerlakes-logo.jpg
END:VEVENT
BEGIN:VEVENT
DTSTART;VALUE=DATE:20240413
DTEND;VALUE=DATE:20240415
DTSTAMP:20260422T062152
CREATED:20240307T064516Z
LAST-MODIFIED:20240307T064516Z
UID:260008-1712966400-1713139199@gspca.org
SUMMARY:Hunt Test: Weatherly\, PA | Schuylkill Valley GSPC
DESCRIPTION:Schuylkill Valley GSP Club Hunt Tests\nFreeland Kennel Club\nWeatherly\, PA \nENTRIES: Bird Dog Stakes birddogstakes.net/\n⇒TAP FOR PREMIUM
URL:https://gspca.org/calendar/hunt-test-weatherly-pa-schuylkill-valley-gspc/
LOCATION:IL
CATEGORIES:Hunt Tests
ATTACH;FMTTYPE=image/jpeg:https://gspca.org/wp-content/uploads/2024/03/Schuylkill-Valley-Logo.jpg
END:VEVENT
BEGIN:VEVENT
DTSTART;VALUE=DATE:20240323
DTEND;VALUE=DATE:20240325
DTSTAMP:20260422T062152
CREATED:20240307T071352Z
LAST-MODIFIED:20240307T072223Z
UID:260019-1711152000-1711324799@gspca.org
SUMMARY:Hunt Test/AWP: Elizabeth\, PA | GSP Club of Greater Pittsburgh
DESCRIPTION:GSP Club of Greater Pittsburgh Hunt Tests/Amateur Walking Puppy FT Stake\nColonial Farms\nElizabeth\, PA \nENTRIES: Bird Dog Stakes birddogstakes.net/\n⇒TAP FOR PREMIUM
URL:https://gspca.org/calendar/hunt-test-elizabeth-pa-gsp-club-of-greater-pittsburgh/
LOCATION:IL
CATEGORIES:Hunt Tests
ATTACH;FMTTYPE=image/jpeg:https://gspca.org/wp-content/uploads/2024/03/GSPC-Greater-Pittsburgh-logo.jpg
END:VEVENT
END:VCALENDAR